Workbook

Sheet %CHANGE
A1: National level- Area , Production, Yield, Sales and Fertilizer Application by Crop, PHS 2021/2022 Vs CFS 2022/2023
B2: Area planted (ha) | E2: Area expected to be harvested (ha) | H2: Expected production (MT) | K2: Yield rate (MT/ha) | N2: Sales (MT) | Q2: Basal fertilizer applied (MT) | T2: Top dressing fertilizer applied (MT)
A3: Crop | B3: PHS 2022 | C3: CFS2023 | D3: % change | E3: PHS 2022 | F3: CFS2023 | G3: % change | H3: PHS 2022 | I3: CFS2023 | J3: % change | K3: PHS 2022 | L3: CFS2023 | M3: % change | N3: PHS 2022 | O3: CFS2023 | P3: % change | Q3: PHS 2022 | R3: CFS2023 | S3: % change | T3: PHS 2022 | U3: CFS2023 | V3: % change
A4: Maize | B4: 1564349 | C4: 1896481.7 | D4: =((C4-B4)/B4)*100 -> 21.231371 | E4: 1367563 | F4: =CropNational!C3 -> 1418369.2 | G4: =((F4-E4)/E4)*100 -> 3.7150918 | H4: 2653805 | I4: 3261685.7 | J4: =((I4-H4)/H4)*100 -> 22.906004 | K4: 1.6964277 | L4: 1.7198614 | M4: =((L4-K4)/K4)*100 -> 1.3813527 | N4: 1058254 | O4: 1291869.8 | P4: =((O4-N4)/N4)*100 -> 22.075589 | Q4: 148942 | R4: 189403.61 | S4: =((R4-Q4)/Q4)*100 -> 27.166018 | T4: 147148 | U4: 188879.7 | V4: =((U4-T4)/T4)*100 -> 28.36036
A5: Sorghum | B5: 44460 | C5: 42557.403 | D5: =((C5-B5)/B5)*100 -> -4.2793453 | E5: 35925 | F5: =CropNational!C7 -> 13749.431 | G5: =((F5-E5)/E5)*100 -> -61.727402 | H5: 14184 | I5: 6835.8611 | J5: =((I5-H5)/H5)*100 -> -51.80583 | K5: 0.31902834 | L5: 0.16062684 | M5: =((L5-K5)/K5)*100 -> -49.651232 | N5: 1874 | O5: 1697.2483 | P5: =((O5-N5)/N5)*100 -> -9.4317858 | Q5: 82 | R5: 18.291963 | S5: =((R5-Q5)/Q5)*100 -> -77.692728 | T5: 74 | U5: 14.394808 | V5: =((U5-T5)/T5)*100 -> -80.547556
A6: Rice | B6: 67601 | C6: 85511.455 | D6: =((C6-B6)/B6)*100 -> 26.494364 | E6: 59601 | F6: =CropNational!C8 -> 49414.089 | G6: =((F6-E6)/E6)*100 -> -17.091846 | H6: 62918 | I6: 62679.806 | J6: =((I6-H6)/H6)*100 -> -0.37857796 | K6: 0.93072588 | L6: 0.73299895 | M6: =((L6-K6)/K6)*100 -> -21.244379 | N6: 27532 | O6: 27345.441 | P6: =((O6-N6)/N6)*100 -> -0.67760918 | Q6: 781 | R6: 361.50774 | S6: =((R6-Q6)/Q6)*100 -> -53.712197 | T6: 423 | U6: 364.2561 | V6: =((U6-T6)/T6)*100 -> -13.887446
A7: Millet | B7: 57556 | C7: 53828.596 | D7: =((C7-B7)/B7)*100 -> -6.4761351 | E7: 52552 | F7: =CropNational!C9 -> 42566.086 | G7: =((F7-E7)/E7)*100 -> -19.001968 | H7: 31962 | I7: 46753.213 | J7: =((I7-H7)/H7)*100 -> 46.277494 | K7: 0.55532004 | L7: 0.86855717 | M7: =((L7-K7)/K7)*100 -> 56.406597 | N7: 6353 | O7: 11874.242 | P7: =((O7-N7)/N7)*100 -> 86.907638 | Q7: 126 | R7: 89.664798 | S7: =((R7-Q7)/Q7)*100 -> -28.837462 | T7: 123 | U7: 75.311814 | V7: =((U7-T7)/T7)*100 -> -38.770883
A8: Sunflower | B8: 273776 | C8: 255005.33 | D8: =((C8-B8)/B8)*100 -> -6.8562147 | E8: 238315 | F8: =CropNational!C10 -> 190384.7 | G8: =((F8-E8)/E8)*100 -> -20.11216 | H8: 82861 | I8: 91607.3 | J8: =((I8-H8)/H8)*100 -> 10.555388 | K8: 0.30265984 | L8: 0.35923681 | M8: =((L8-K8)/K8)*100 -> 18.693252 | N8: 24706 | O8: 14821.292 | P8: =((O8-N8)/N8)*100 -> -40.009344 | Q8: 212 | R8: 544.04918 | S8: =((R8-Q8)/Q8)*100 -> 156.62697 | T8: 147 | U8: 304.37758 | V8: =((U8-T8)/T8)*100 -> 107.05958
A9: Groundnuts | B9: 348980 | C9: 367107.5 | D9: =((C9-B9)/B9)*100 -> 5.1944239 | E9: 322408 | F9: =CropNational!C12 -> 603903.11 | G9: =((F9-E9)/E9)*100 -> 87.310212 | H9: 180256 | I9: 235445.58 | J9: =((I9-H9)/H9)*100 -> 30.617333 | K9: 0.51652244 | L9: 0.64135323 | M9: =((L9-K9)/K9)*100 -> 24.167544 | N9: 46908 | O9: 77469.351 | P9: =((O9-N9)/N9)*100 -> 65.151681 | Q9: 435 | R9: 603.6745 | S9: =((R9-Q9)/Q9)*100 -> 38.775748 | T9: 249 | U9: 416.50883 | V9: =((U9-T9)/T9)*100 -> 67.272622
A10: Soya beans | B10: 436277 | C10: 701227.25 | D10: =((C10-B10)/B10)*100 -> 60.729823 | E10: 415831 | F10: =CropNational!C12 -> 603903.11 | G10: =((F10-E10)/E10)*100 -> 45.228016 | H10: 438679 | I10: 760067.09 | J10: =((I10-H10)/H10)*100 -> 73.262703 | K10: 1.0055057 | L10: 1.0839098 | M10: =((L10-K10)/K10)*100 -> 7.7974826 | N10: 328525 | O10: 470942.26 | P10: =((O10-N10)/N10)*100 -> 43.35051 | Q10: 12363 | R10: 11330.168 | S10: =((R10-Q10)/Q10)*100 -> -8.354219 | T10: 2788 | U10: 2428.4535 | V10: =((U10-T10)/T10)*100 -> -12.896217
A11: Seed Cotton | B11: 37229 | C11: 94196.219 | D11: =((C11-B11)/B11)*100 -> 153.0184 | E11: 33384 | F11: =CropNational!C13 -> 67607.331 | G11: =((F11-E11)/E11)*100 -> 102.51417 | H11: 19375 | I11: 55971.229 | J11: =((I11-H11)/H11)*100 -> 188.88376 | K11: 0.52042762 | L11: 0.59419825 | M11: =((L11-K11)/K11)*100 -> 14.175002 | N11: 14643 | O11: 1460.7832 | P11: =((O11-N11)/N11)*100 -> -90.024017 | Q11: 50 | R11: 95.351534 | S11: =((R11-Q11)/Q11)*100 -> 90.703067 | T11: 89 | U11: 244.55569 | V11: =((U11-T11)/T11)*100 -> 174.78167
A12: Irish Potatoes | B12: 4018 | C12: 2843.3038 | D12: =((C12-B12)/B12)*100 -> -29.235844 | E12: 3408 | F12: =CropNational!C14 -> 2649.8692 | G12: =((F12-E12)/E12)*100 -> -22.245622 | H12: 43917 | I12: 65082.423 | J12: =((I12-H12)/H12)*100 -> 48.194147 | K12: 10.930065 | L12: 22.889718 | M12: =((L12-K12)/K12)*100 -> 109.41979 | N12: 33845 | O12: 63402.518 | P12: =((O12-N12)/N12)*100 -> 87.332007 | Q12: 458 | R12: 392.18866 | S12: =((R12-Q12)/Q12)*100 -> -14.369289 | T12: 334 | U12: 298.82978 | V12: =((U12-T12)/T12)*100 -> -10.530006
A13: Tobacco (Virginia) | B13: 8749 | C13: 17945.931 | D13: =((C13-B13)/B13)*100 -> 105.1198 | E13: 8238 | F13: =CropNational!C15 -> 16880.405 | G13: =((F13-E13)/E13)*100 -> 104.90901 | H13: 16447 | I13: 28929.917 | J13: =((I13-H13)/H13)*100 -> 75.897833 | K13: 1.879872 | L13: 1.6120599 | M13: =((L13-K13)/K13)*100 -> -14.246292 | N13: 13194 | O13: 6686.537 | P13: =((O13-N13)/N13)*100 -> -49.321381 | Q13: 1879 | R13: 5937.7156 | S13: =((R13-Q13)/Q13)*100 -> 216.00402 | T13: 854 | U13: 1904.8663 | V13: =((U13-T13)/T13)*100 -> 123.05226
A14: Tobacco (Burley) | B14: 5303 | C14: 2996.5045 | D14: =((C14-B14)/B14)*100 -> -43.494165 | E14: 5153 | F14: =CropNational!C16 -> 2884.9045 | G14: =((F14-E14)/E14)*100 -> -44.015049 | H14: 7893 | I14: 3519.4052 | J14: =((I14-H14)/H14)*100 -> -55.411057 | K14: 1.4884028 | L14: 1.1745036 | M14: =((L14-K14)/K14)*100 -> -21.089668 | N14: 6940 | O14: 912.84375 | P14: =((O14-N14)/N14)*100 -> -86.846632 | Q14: 836 | R14: 686.7378 | S14: =((R14-Q14)/Q14)*100 -> -17.85433 | T14: 633 | U14: 645.44119 | V14: =((U14-T14)/T14)*100 -> 1.9654327
A15: Mixed Beans | B15: 121969 | C15: 140374.33 | D15: =((C15-B15)/B15)*100 -> 15.090173 | E15: 115878 | F15: =CropNational!C17 -> 131839.73 | G15: =((F15-E15)/E15)*100 -> 13.774599 | H15: 56683 | I15: 88095.297 | J15: =((I15-H15)/H15)*100 -> 55.417492 | K15: 0.46473284 | L15: 0.62757411 | M15: =((L15-K15)/K15)*100 -> 35.039759 | N15: 21230 | O15: 32549.777 | P15: =((O15-N15)/N15)*100 -> 53.319723 | Q15: 998 | R15: 1105.1257 | S15: =((R15-Q15)/Q15)*100 -> 10.734041 | T15: 534 | U15: 657.52337 | V15: =((U15-T15)/T15)*100 -> 23.131718
A16: Bambara nuts | B16: 12647 | C16: 7169.2987 | D16: =((C16-B16)/B16)*100 -> -43.312258 | E16: 11878 | F16: =CropNational!C18 -> 6639.7812 | G16: =((F16-E16)/E16)*100 -> -44.100175 | H16: 10167 | I16: 7294.4615 | J16: =((I16-H16)/H16)*100 -> -28.253551 | K16: 0.80390606 | L16: 1.0174582 | M16: =((L16-K16)/K16)*100 -> 26.564309 | N16: 2213 | O16: 2784.9451 | P16: =((O16-N16)/N16)*100 -> 25.844785 | Q16: 58 | R16: 0 | S16: =((R16-Q16)/Q16)*100 -> -100 | T16: 58 | U16: 0 | V16: =((U16-T16)/T16)*100 -> -100
A17: Cow Peas | B17: 36621 | C17: 16092.803 | D17: =((C17-B17)/B17)*100 -> -56.055808 | E17: 29398 | F17: =CropNational!C19 -> 10003.901 | G17: =((F17-E17)/E17)*100 -> -65.970812 | H17: 10638 | I17: 5700.9902 | J17: =((I17-H17)/H17)*100 -> -46.409192 | K17: 0.29048906 | L17: 0.35425714 | M17: =((L17-K17)/K17)*100 -> 21.951972 | N17: 2151 | O17: 966.15351 | P17: =((O17-N17)/N17)*100 -> -55.083519 | Q17: 67 | R17: 46.473099 | S17: =((R17-Q17)/Q17)*100 -> -30.637166 | T17: 48 | U17: 26.358811 | V17: =((U17-T17)/T17)*100 -> -45.085811
A18: Sweet Potatoes | B18: 76945 | C18: 106590.45 | D18: =((C18-B18)/B18)*100 -> 38.528105 | E18: 72605 | F18: =CropNational!C21 -> 96149.539 | G18: =((F18-E18)/E18)*100 -> 32.428261 | H18: 162614 | I18: 234631.14 | J18: =((I18-H18)/H18)*100 -> 44.287173 | K18: 2.1133797 | L18: 2.2012398 | M18: =((L18-K18)/K18)*100 -> 4.157328 | N18: 79666 | O18: 105520.75 | P18: =((O18-N18)/N18)*100 -> 32.453931 | Q18: 140 | R18: 253.36641 | S18: =((R18-Q18)/Q18)*100 -> 80.976005 | T18: 88 | U18: 101.48335 | V18: =((U18-T18)/T18)*100 -> 15.321992
A19: Cassava | B19: ='[1]Cassava Production'!$C$13 -> 283385.59 | C19: ='Cassava Province'!C13 -> 380343.54 | D19: =((C19-B19)/B19)*100 -> 34.214141 | E19: - | F19: - | G19: - | H19: ='[1]Cassava Production'!$E$13 -> 3315611.4 | I19: ='Cassava Province'!E13 -> 4450019.4 | J19: =((I19-H19)/H19)*100 -> 34.21414 | K19: 2.1133797 | L19: 2.2012398 | M19: =((L19-K19)/K19)*100 -> 4.157328 | N19: - | O19: - | P19: - | Q19: - | R19: - | S19: - | T19: - | U19: - | V19: -
A20: Wheat | B20: 29329 | C20: 36547.313 | D20: =((C20-B20)/B20)*100 -> 24.61152 | E20: 29321 | F20: =CropNational!C22 -> 36550.671 | G20: =((F20-E20)/E20)*100 -> 24.656971 | H20: 278433 | I20: 277491.85 | J20: =((I20-H20)/H20)*100 -> -0.33801577 | K20: 9.4934365 | L20: 7.5926746 | M20: =((L20-K20)/K20)*100 -> -20.021853 | N20: 242587 | O20: 267803.79 | P20: =((O20-N20)/N20)*100 -> 10.394947 | Q20: 5793 | R20: 9348.5417 | S20: =((R20-Q20)/Q20)*100 -> 61.376518 | T20: 5759 | U20: 9151.9973 | V20: =((U20-T20)/T20)*100 -> 58.916432
A21: Barley | B21: 2531 | C21: 2520.1691 | D21: =((C21-B21)/B21)*100 -> -0.42792967 | E21: 2521 | F21: =CropNational!C23 -> 2519.8691 | G21: =((F21-E21)/E21)*100 -> -0.044859183 | H21: 19759 | I21: 19561.394 | J21: =((I21-H21)/H21)*100 -> -1.000083 | K21: 7.8067957 | L21: 7.7619369 | M21: =((L21-K21)/K21)*100 -> -0.57461226 | N21: 18919 | O21: 18743.394 | P21: =((O21-N21)/N21)*100 -> -0.92820128 | Q21: 500 | R21: 713.86578 | S21: =((R21-Q21)/Q21)*100 -> 42.773156 | T21: 477 | U21: 428.50542 | V21: =((U21-T21)/T21)*100 -> -10.166579
A23: Source: Early Warning and Statistics Unit, 2022/2023 Crop Forecasting Survey

Sheet CropNational
